BEGIN:VCALENDAR
VERSION:2.0
PRODID:icalendar-ruby
CALSCALE:GREGORIAN
METHOD:PUBLISH
BEGIN:VEVENT
DTSTAMP:20260423T175838Z
UID:event-236951@stampinup.net
DTSTART;TZID=America/Chicago:20241103T130000
DTEND;TZID=America/Chicago:20241103T150000
CREATED:20241005T075212
DESCRIPTION:It's the most wonderful time of the year...Time to stamp your C
 hristmas cards... Buffet Style! You will have a large variety of designs t
 o choose from - Traditional\, Religious and Whimsical!  Class will includ
 e 6 cards (2 each of choice designs) and an embellishment pack ($6-7.50 va
 lue).  Additional cards are $5/pk of 2). \nCost:  $25\n\nRegister 5 Day
 s before class!\n\nEvent link: https://stampinup.net/crm/events/236951
LAST-MODIFIED:20241005T075212
LOCATION:Angela's Home\, Nashville\, TN
ORGANIZER;CN=Angela Waters:mailto:aftersunrise@hotmail.com
SUMMARY:Christmas Card Buffet
URL;VALUE=URI:https://stampinup.net/crm/events/236951
END:VEVENT
END:VCALENDAR
