BEGIN:VCALENDAR
VERSION:2.0
PRODID:icalendar-ruby
CALSCALE:GREGORIAN
METHOD:PUBLISH
BEGIN:VEVENT
DTSTAMP:20260419T202615Z
UID:event-236936@stampinup.net
DTSTART;TZID=America/New_York:20241019T110000
DTEND;TZID=America/New_York:20241019T140000
CREATED:20241005T062354
DESCRIPTION:Paper Crafting Workshop October 19 @ 11 am\n(3d Saturday every 
 month)\n  • October Host Code | 7RN44P4U (Closes October 30)\n\nJoin us
  for some cardmaking - 8 cards (2 ea. of 4 designs). Excited to include ho
 liday cards from now through November. Please RSVP so that I have plenty p
 ackets prepared for everyone. See you there!\n\nSandy 407-314-9717\n✂️
 ✂️✂️ #ilovepapercrafts ✂️✂️✂️\n\nEvent link: https:/
 /stampinup.net/crm/events/236936
LAST-MODIFIED:20241005T062354
LOCATION:Bagel King Bakery\, 777 Deltona Blvd.\, Deltona\, FL 32725
ORGANIZER;CN=Sandy Ward:mailto:sandee904@yahoo.com
SUMMARY:Friends n Neighbors Stamp Club
URL;VALUE=URI:https://stampinup.net/crm/events/236936
END:VEVENT
END:VCALENDAR
