BEGIN:VCALENDAR
VERSION:2.0
PRODID:icalendar-ruby
CALSCALE:GREGORIAN
METHOD:PUBLISH
BEGIN:VEVENT
DTSTAMP:20260420T122334Z
UID:event-236837@stampinup.net
DTSTART;TZID=America/Chicago:20241011T183000
DTEND;TZID=America/Chicago:20241011T200000
CREATED:20241004T072629
DESCRIPTION:Make 3 simple cards\, great for beginners or just a relaxing cr
 afting time. Cost is $10\n\nEvent link: https://stampinup.net/crm/events/2
 36837
LAST-MODIFIED:20241004T072629
ORGANIZER;CN=Robyn Rasset:mailto:rrasset@frontier.com
SUMMARY:Simple Stamping
URL;VALUE=URI:https://stampinup.net/crm/events/236837
END:VEVENT
END:VCALENDAR
