BEGIN:VCALENDAR
VERSION:2.0
PRODID:icalendar-ruby
CALSCALE:GREGORIAN
METHOD:PUBLISH
BEGIN:VEVENT
DTSTAMP:20260420T230231Z
UID:event-236521@stampinup.net
DTSTART;TZID=America/New_York:20241029T130000
DTEND;TZID=America/New_York:20241029T150000
CREATED:20241001T111829
DESCRIPTION:Join us for a monthly get-together to work on Paper Pumpkin k
 its!  You can bring the current month's kit or past kits that have accumu
 lated (ask me how I know about this\, lol!)  OR\, bring any other kit or 
 project that you might need time to work on!\n\nBring your acrylic block f
 or stamping\, everything else you need will be in your kit.\n\nPlease RSVP
  by the 23rd of the month if you plan to attend.  If there are no RSVP's 
 by that date\, the session will not be held.  \n​\nIf you are unfamili
 ar with Paper Pumpkin\, please contact me so I can share how awesome it i
 s!!\n\nContact me for address\, if needed.\n\n\nEvent link: https://stampi
 nup.net/crm/events/236521
LAST-MODIFIED:20241002T101356
LOCATION:Toni's House
ORGANIZER;CN=Toni Campana:mailto:tcamp363@camppug.com
SUMMARY:Paper Pumpkin Session
URL;VALUE=URI:https://stampinup.net/crm/events/236521
END:VEVENT
END:VCALENDAR
