BEGIN:VCALENDAR
VERSION:2.0
PRODID:icalendar-ruby
CALSCALE:GREGORIAN
METHOD:PUBLISH
BEGIN:VEVENT
DTSTAMP:20260420T182301Z
UID:event-236338@stampinup.net
DTSTART;TZID=America/Chicago:20241121T183000
DTEND;TZID=America/Chicago:20241121T203000
CREATED:20240929T181337
DESCRIPTION:Card class featuring 6 cards (2 each of 3 designs).  Class fee
  is $15 or free with a minimum order.  We'll be making winter themed card
 s that can be used for the holiday or for other occasions.  RSVP by Novem
 ber 19th.  \n\nEvent link: https://stampinup.net/crm/events/236338
LAST-MODIFIED:20241029T145031
LOCATION:Sandy's house\, 606 Centre Grove Circle\, Jonesboro\, AR
ORGANIZER;CN=Sandy Risi:mailto:sjrisix@aol.com
SUMMARY:November Card Class
URL;VALUE=URI:https://stampinup.net/crm/events/236338
END:VEVENT
END:VCALENDAR
