BEGIN:VCALENDAR
VERSION:2.0
PRODID:icalendar-ruby
CALSCALE:GREGORIAN
METHOD:PUBLISH
BEGIN:VEVENT
DTSTAMP:20260419T233030Z
UID:event-236099@stampinup.net
DTSTART;TZID=America/New_York:20241121T200000
DTEND;TZID=America/New_York:20241121T210000
CREATED:20240924T121223
DESCRIPTION:\nLive with Lisa is a monthly LIVE event held on a private\, un
 listed YouTube link.  During the live broadcast I demonstrate several pro
 jects\, provide stamping tips and tricks and answer your questions – yes
 \, it’s interactive! I also give away product prizes and a bundle of exc
 lusive project tutorials!  Can’t join during the Live broadcast? No pr
 oblem. The replay is available immediately following the Live stream and y
 our name is still included in the product prize patrol and tutorial access
 .\n\nEvent link: https://stampinup.net/crm/events/236099
LAST-MODIFIED:20240924T121223
ORGANIZER;CN=Lisa Curcio:mailto:orders@lisasstampstudio.com
SUMMARY:Live with Lisa Event
URL;VALUE=URI:https://stampinup.net/crm/events/236099
END:VEVENT
END:VCALENDAR
