BEGIN:VCALENDAR
VERSION:2.0
PRODID:icalendar-ruby
CALSCALE:GREGORIAN
METHOD:PUBLISH
BEGIN:VEVENT
DTSTAMP:20260419T220433Z
UID:event-235833@stampinup.net
DTSTART;VALUE=DATE:20241019
DTEND;VALUE=DATE:20241020
CREATED:20240919T225251
DESCRIPTION:Register here:\nhttps://form.jotform.com/ange306/reindeer-days-
 mega-stamp-camp\n\nEvent link: https://stampinup.net/crm/events/235833
LAST-MODIFIED:20240919T225251
ORGANIZER;CN=Ange McKay:mailto:ange306@me.com
SUMMARY:Reindeer Fun Mega Stamp Camp
URL;VALUE=URI:https://stampinup.net/crm/events/235833
END:VEVENT
END:VCALENDAR
