BEGIN:VCALENDAR
VERSION:2.0
PRODID:icalendar-ruby
CALSCALE:GREGORIAN
METHOD:PUBLISH
BEGIN:VEVENT
DTSTAMP:20260420T114729Z
UID:event-2358@stampinup.net
DTSTART;TZID=America/New_York:20191028T183000
DTEND;TZID=America/New_York:20191028T210000
CREATED:20190911T145438
DESCRIPTION:Team meeing - business format\n\nEvent link: https://stampinup.
 net/crm/events/2358
LAST-MODIFIED:20190911T145438
LOCATION:Mary's house\, 8 Wishful Trl  Rochester 14624
ORGANIZER;CN=Mary Rodgers:mailto:maryrodgers_su@yahoo.com
SUMMARY:Rochester Stampers team meeting 
URL;VALUE=URI:https://stampinup.net/crm/events/2358
END:VEVENT
END:VCALENDAR
