BEGIN:VCALENDAR
VERSION:2.0
PRODID:icalendar-ruby
CALSCALE:GREGORIAN
METHOD:PUBLISH
BEGIN:VEVENT
DTSTAMP:20260422T080135Z
UID:event-235731@stampinup.net
DTSTART;TZID=Australia/Sydney:20241102T100000
DTEND;TZID=Australia/Sydney:20241102T120000
CREATED:20240918T184653
DESCRIPTION:\n\nEvent link: https://stampinup.net/crm/events/235731
LAST-MODIFIED:20240918T184653
LOCATION:Creswick \, Victoria 
ORGANIZER;CN=Simone Bartrum:mailto:bartrum5@bigpond.com
SUMMARY:Stamp Club - Make & Take Class
URL;VALUE=URI:https://stampinup.net/crm/events/235731
END:VEVENT
END:VCALENDAR
