BEGIN:VCALENDAR
VERSION:2.0
PRODID:icalendar-ruby
CALSCALE:GREGORIAN
METHOD:PUBLISH
BEGIN:VEVENT
DTSTAMP:20260421T093956Z
UID:event-235646@stampinup.net
DTSTART;TZID=America/New_York:20241116T100000
DTEND;TZID=America/New_York:20241116T120000
CREATED:20240917T160049
DESCRIPTION:Join us for a morning of fun\, we make 4 cards (2 designs/2 eac
 h) I will have several sentiments so you can make it the occasion that you
  need.  Class fee if $20 in advance.  If you live in Vero Beach make sur
 e you contact me to reserve your spot\,  Let me know asap if you are inte
 rested. \n\nEvent link: https://stampinup.net/crm/events/235646
LAST-MODIFIED:20240917T160049
LOCATION:The Salvation Army\, 2655  Fifth St SW\, Vero Beach Fl 
ORGANIZER;CN=Frances Wagner:mailto:WAGSTAMPS@YAHOO.COM
SUMMARY:Salvation Army Crop Card Class
URL;VALUE=URI:https://stampinup.net/crm/events/235646
END:VEVENT
END:VCALENDAR
