BEGIN:VCALENDAR
VERSION:2.0
PRODID:icalendar-ruby
CALSCALE:GREGORIAN
METHOD:PUBLISH
BEGIN:VEVENT
DTSTAMP:20260422T100437Z
UID:event-235566@stampinup.net
DTSTART;TZID=America/New_York:20241110T100000
DTEND;TZID=America/New_York:20241110T160000
CREATED:20240917T024435
DESCRIPTION:Stop by my booth at the Holy Family Christian Mother's Annual C
 raft Bazaar. We will be in the undercroft of Holy Family. (My friend Steve
   grew up in this church and refers to this area as St. George's Hall.) I
  will have my cards\, kits\, and gift items!! See you on Sunday\, November
  10th\, 2023\, from 10a-4p.\n\nEvent link: https://stampinup.net/crm/event
 s/235566
LAST-MODIFIED:20240917T024435
LOCATION:Holy Family Church\, 584 W Broad St\, Columbus\, OH 43215
ORGANIZER;CN=Dawn Stock:mailto:StampingWithDawn@hotmail.com
SUMMARY:Holy Family Christian Mothers Annual Craft Bazaar
URL;VALUE=URI:https://stampinup.net/crm/events/235566
END:VEVENT
END:VCALENDAR
