BEGIN:VCALENDAR
VERSION:2.0
PRODID:icalendar-ruby
CALSCALE:GREGORIAN
METHOD:PUBLISH
BEGIN:VEVENT
DTSTAMP:20260424T161202Z
UID:event-235529@stampinup.net
DTSTART;TZID=America/Los_Angeles:20241020T033000
DTEND;TZID=America/Los_Angeles:20241020T043000
CREATED:20240916T161219
DESCRIPTION:Join us for a Holiday Stamp a Stack.  We will make 8 cards\, 4
  designs and two of each design.\nEnjoy refreshments\, a treat bar\, door 
 prize and fun games.\n\nEarly Bird Fee:  $55 if registered by October 4.\
 n\nContact me for registration details:  dayanna@impressionsbyday.com\n\n
 Event link: https://stampinup.net/crm/events/235529
LAST-MODIFIED:20240916T161219
LOCATION:Surrey\, 15677 24 Avenue
ORGANIZER;CN=Dayanna Donng:mailto:dayannadonng@gmail.com
SUMMARY:Holiday Stamp a Stack
URL;VALUE=URI:https://stampinup.net/crm/events/235529
END:VEVENT
END:VCALENDAR
