BEGIN:VCALENDAR
VERSION:2.0
PRODID:icalendar-ruby
CALSCALE:GREGORIAN
METHOD:PUBLISH
BEGIN:VEVENT
DTSTAMP:20260422T190714Z
UID:event-235527@stampinup.net
DTSTART;TZID=Europe/Berlin:20241013T170000
DTEND;TZID=Europe/Berlin:20241013T190000
CREATED:20240916T160855
DESCRIPTION:Explosionsbox - das besondere Geschenk - Workshop für Erwachse
 ne\nProjekt: 1 Explosionsbox\nTeilnahmegebühr: € 30\,-- p. P.\n\nDie Wo
 rkshops finden bei mir zuhause in der Reichenbacher Str. 47 in Schwabach s
 tatt. Softdrinks\, 1 Glas Prosecco und kleine Snacks während des Workshop
 s sind inbegriffen. Anmeldung ab sofort\, die Plätze sind begrenzt. Es k
 önnen maximal 6 Personen am Workshop teilnehmen\, die Mindest-Teilnehmerz
 ahl beträgt 3 Personen. Die Anmeldung ist verbindlich\, die Gebühr muss 
 mit der Anmeldung entrichtet werden.\n\nIch freue mich darauf mit Euch zu 
 basteln!\n\nEvent link: https://stampinup.net/crm/events/235527
LAST-MODIFIED:20240916T160855
LOCATION:Caros EinfallsReich\, Reichenbacher Str. 47\, 91126 Schwabach
ORGANIZER;CN=Carolin Stetter:mailto:carolin.stetter@yahoo.com
SUMMARY:Explosionsbox - Workshop für Erwachsene
URL;VALUE=URI:https://stampinup.net/crm/events/235527
END:VEVENT
END:VCALENDAR
