BEGIN:VCALENDAR
VERSION:2.0
PRODID:icalendar-ruby
CALSCALE:GREGORIAN
METHOD:PUBLISH
BEGIN:VEVENT
DTSTAMP:20260420T173619Z
UID:event-235288@stampinup.net
DTSTART;TZID=America/Chicago:20240922T120000
DTEND;TZID=America/Chicago:20240922T160000
CREATED:20240912T081512
DESCRIPTION:Stop by and get a new Sept to Dec Mini Catalog. Have some treat
 s. Register for a door prize. Create a card using the new products. See lo
 ts of samples.\n\nEvent link: https://stampinup.net/crm/events/235288
LAST-MODIFIED:20240918T203306
LOCATION:The Roost\, 3025 Vega Ave\, Mayer\, MN
ORGANIZER;CN=Robyn Rasset:mailto:rrasset@frontier.com
SUMMARY:Holiday Catalog Open House
URL;VALUE=URI:https://stampinup.net/crm/events/235288
END:VEVENT
END:VCALENDAR
