BEGIN:VCALENDAR
VERSION:2.0
PRODID:icalendar-ruby
CALSCALE:GREGORIAN
METHOD:PUBLISH
BEGIN:VEVENT
DTSTAMP:20260423T063457Z
UID:event-234893@stampinup.net
DTSTART;TZID=America/New_York:20241123T100000
DTEND;TZID=America/New_York:20241123T140000
CREATED:20240907T183503
DESCRIPTION:Join us at Harvest Christmas Bazaar on Saturday\, November 23rd
  from 10 AM - 2 PM at the Harvest Assembly of God\, 8075 Dellinger Road\, 
 Galloway\, Ohio.\n\nEvent link: https://stampinup.net/crm/events/234893
LAST-MODIFIED:20240907T183503
LOCATION:Harvest Assembly of God\, 8075 Dellinger Road\, Galloway\, Ohio
ORGANIZER;CN=Dawn Stock:mailto:StampingWithDawn@hotmail.com
SUMMARY:Harvest Christmas Bazaar
URL;VALUE=URI:https://stampinup.net/crm/events/234893
END:VEVENT
END:VCALENDAR
