BEGIN:VCALENDAR
VERSION:2.0
PRODID:icalendar-ruby
CALSCALE:GREGORIAN
METHOD:PUBLISH
BEGIN:VEVENT
DTSTAMP:20260425T211449Z
UID:event-234500@stampinup.net
DTSTART;TZID=Australia/Sydney:20241024T100000
DTEND;TZID=Australia/Sydney:20241024T120000
CREATED:20240903T191015
DESCRIPTION:Create 2 Christmas cards using products from the 2024 September
  - December mini catalogue. \nYou will also decorate the inside of all yo
 ur cards along with a coordinating envelope. \nCost $25 (adhesive include
 d)\n\nEvent link: https://stampinup.net/crm/events/234500
LAST-MODIFIED:20240904T211756
LOCATION:Skye\, Address provided upon RSVP
ORGANIZER;CN=Ros Davidson:mailto:rosnat@iprimus.com.au
SUMMARY:Daytime Christmas card class
URL;VALUE=URI:https://stampinup.net/crm/events/234500
END:VEVENT
END:VCALENDAR
