BEGIN:VCALENDAR
VERSION:2.0
PRODID:icalendar-ruby
CALSCALE:GREGORIAN
METHOD:PUBLISH
BEGIN:VEVENT
DTSTAMP:20260420T033019Z
UID:event-234138@stampinup.net
DTSTART;TZID=Europe/Amsterdam:20241005T100000
DTEND;TZID=Europe/Amsterdam:20241005T130000
CREATED:20240901T115455
DESCRIPTION:Hoi\,\n\nWat leuk dat je geïnteresseerd bent in de Mrs. Bright
 side (Online) Kaartenclub!\n\nJe kunt deze online workshop op World Cardma
 king Day - 5 oktober '24 - volgen van 10 tot 13 uur via Zoom\, meer inform
 atie vind je hieronder.\n\nJe workshop pakket bevat alle materialen om 3 t
 offe en uitgebreide fun fold kaarten met kerstthema te maken. Je maakt dez
 e projecten met drie prachtige designpapier series\n\n- Season of Green &a
 mp\; Gold Speciaal Designpapier\n- Reindeer Days Designpapier\n- Snowy Sce
 nes Designpapier\n\nPer fun fold kaart ontvang je een kitje met de benodig
 de materialen\, waaronder cardstock\, embellishments/lint\, diverse gestan
 ste en geponste onderdelen. Natuurlijk zit er ook een kleine verrassing ve
 rstopt in de brievenbus doos!\n\nONLINE WORKSHOP\nBij de Online Workshop z
 org je zelf voor lijmsoorten\, inkt\, tekststempels\, snijapparaat met ril
 functie\, schaar en vouwbeen. Tevens ontvang je een aantal dagen van te vo
 ren een informatie mail met daarin o.a. wat klaar te leggen qua lijm\, ink
 t e.a.\, de link naar de Live Zoom Workshop en op de dag zelf\, per mail\,
  een PDF met duidelijk stap-voor-stap projectbeschrijvingen.\n\nTijdens de
  Live Workshop geef ik ook nog eens live een toelichting over het maken va
 n de projecten en is er voldoende tijd om gezamenlijk (net als bij een wor
 kshop in levende lijve) alle projecten te maken. Ook heb je de mogelijkhei
 d om gezellig samen te kletsen :) \n\nMocht je de Live Workshop niet bij 
 kunnen wonen\, dan kun je alle projecten eenvoudig maken aan de hand van d
 e uitgebreide projectbeschrijving. \n\nAANMELDEN \nNa je aanmelding ontv
 ang je een bevestigingsmail met betaalinformatie (via bankoverschrijving o
 f Tikkie). \n\nJe kunt jezelf aanmelden voor deze online workshop tot 15 
 september aanstaande en je ontvangt het materiaalpakket in je brievenbus v
 oor 5 oktober '24.\n\nVul het onderstaande bestelformulier in om jouw Onli
 ne Kaartenclub pakket nu te bestellen! \nHet Online Kaartenclub Pakket ko
 st € 24\,95\, dit is incl. verzendkosten en een kleine verrassing\n\nMoc
 ht je vragen hebben\, dan kun je terecht op mijn website: www.mrsbrightsi
 de.nl of stuur me een mail: danielle@mrsbrightside.nl.\n\nHartelijke gro
 eten en always craft on the Brightside of life\,\nDanielle\n\nEvent link: 
 https://stampinup.net/crm/events/234138
LAST-MODIFIED:20240901T115455
LOCATION:Bij jou thuis via Zoom
ORGANIZER;CN=Danielle Bennenk:mailto:mrsbgoesstamping@gmail.com
SUMMARY:Online Kaartenclub - Fun Fold Festival
URL;VALUE=URI:https://stampinup.net/crm/events/234138
END:VEVENT
END:VCALENDAR
