BEGIN:VCALENDAR
VERSION:2.0
PRODID:icalendar-ruby
CALSCALE:GREGORIAN
METHOD:PUBLISH
BEGIN:VEVENT
DTSTAMP:20260424T190720Z
UID:event-233862@stampinup.net
DTSTART;TZID=America/New_York:20240915T000100
DTEND;TZID=America/New_York:20240915T235900
CREATED:20240829T043256
DESCRIPTION:OFF GRID! Enjoy!!!\n\nEvent link: https://stampinup.net/crm/eve
 nts/233862
LAST-MODIFIED:20240829T043256
ORGANIZER;CN=Dawn Stock:mailto:StampingWithDawn@hotmail.com
SUMMARY:OFF GRID :)
URL;VALUE=URI:https://stampinup.net/crm/events/233862
END:VEVENT
END:VCALENDAR
