BEGIN:VCALENDAR
VERSION:2.0
PRODID:icalendar-ruby
CALSCALE:GREGORIAN
METHOD:PUBLISH
BEGIN:VEVENT
DTSTAMP:20260423T171514Z
UID:event-233842@stampinup.net
DTSTART;TZID=America/Chicago:20241003T163000
DTEND;TZID=America/Chicago:20241003T200000
CREATED:20240828T203521
DESCRIPTION:We will make 5 beautiful hand stamped cards. Price includes cho
 ice of one adhesive.\nThursday\, October 3\, 4:30 - 8:00 pm\nTuesday\, Oct
 ober 8\, 2:00 - 5:00 pm\nPrice $19\nChoose from: Mono Adhesive Refill\, Mo
 no Multi Liquid Glue\, Mono Aqua Liquid Glue\, Double SidedTape 0.125” x
  27yd\, Double SidedTape 0.25” x 60 yds\, Zig 2-way Glue Pen\nOr $20\nCh
 oose from: Double SidedTape 0.25” x 27yd\, Mini Glue Dots\, Micro Glue D
 ots\, Foam Tape Roll .375” x 13’\, Stampin’ Dimensionals\, Stampin
 ’ Mini Dimensionals\n\nReserve your spot now! DEADLINE TO REGISTER IS Se
 ptember 12.\nBring your adhesives and Basic Tool Kit. Please put your nam
 e on all your items. Adhesives will also be available for purchase at clas
 s. \n\nEvent link: https://stampinup.net/crm/events/233842
LAST-MODIFIED:20240912T090845
ORGANIZER;CN=Susan Miller:mailto:STAMPIN@DREAMLAKEDESIGN.COM
SUMMARY:October Stampin' Class
URL;VALUE=URI:https://stampinup.net/crm/events/233842
END:VEVENT
END:VCALENDAR
