BEGIN:VCALENDAR
VERSION:2.0
PRODID:icalendar-ruby
CALSCALE:GREGORIAN
METHOD:PUBLISH
BEGIN:VEVENT
DTSTAMP:20260419T191728Z
UID:event-233284@stampinup.net
DTSTART;TZID=America/New_York:20240919T180000
DTEND;TZID=America/New_York:20240919T193000
CREATED:20240821T140430
DESCRIPTION:Make 4 hand-stamped cards. Refreshments provided. All mayterial
 s provided. Cost $12 Please RSVP to me or Deb at the store 585-622-9007\n\
 nEvent link: https://stampinup.net/crm/events/233284
LAST-MODIFIED:20240821T140430
LOCATION:Deborah Jean & Co.\, 626 Park Ave\, Rochester
ORGANIZER;CN=Amy Raimy:mailto:pineapplepaperartist@gmail.com
SUMMARY:Card Class at Deborah Jean & Co.
URL;VALUE=URI:https://stampinup.net/crm/events/233284
END:VEVENT
END:VCALENDAR
