BEGIN:VCALENDAR
VERSION:2.0
PRODID:icalendar-ruby
CALSCALE:GREGORIAN
METHOD:PUBLISH
BEGIN:VEVENT
DTSTAMP:20260421T101310Z
UID:event-233240@stampinup.net
DTSTART;VALUE=DATE:20240906
DTEND;VALUE=DATE:20240906
CREATED:20240821T131915
DESCRIPTION:I call this card a swinging "Z" fold. Join me to see what I cre
 ate.\n\nEvent link: https://stampinup.net/crm/events/233240
LAST-MODIFIED:20240821T131915
LOCATION:Blog
ORGANIZER;CN=Rita Montoya:mailto:lve2craft@gmail.com
SUMMARY:Friday Fun Fold Christmas  Style
URL;VALUE=URI:https://stampinup.net/crm/events/233240
END:VEVENT
END:VCALENDAR
