BEGIN:VCALENDAR
VERSION:2.0
PRODID:icalendar-ruby
CALSCALE:GREGORIAN
METHOD:PUBLISH
BEGIN:VEVENT
DTSTAMP:20260421T152529Z
UID:event-232988@stampinup.net
DTSTART;TZID=America/Phoenix:20250326T110000
DTEND;TZID=America/Phoenix:20250330T090000
CREATED:20240818T215208
DESCRIPTION:March 26-30\, 2025 (Single-day options will become available if
  space allows approximately 30 days prior to the event)\n24246 N 43rd Aven
 ue\, Glendale\, Arizona 85310\n11 AM on Wednesday - 9 AM on Sunday. Single
 -day attendees are 11 AM-11 PM (opens Feb 22)\n$205 for up to 5 days\n\nIn
  the registration\, everyone receives their own 5' table with lamp\, elect
 ricity\, Wi-Fi\, and office chair. There are no stairs. Brunch and dinner\
 , beginning with dinner on Wednesday and ending with brunch on Saturday\, 
 are also included.\n\nOptional lodging includes all bedding\, pillows\, an
 d bathroom basics like shampoo\, conditioner\, and body wash unless you’
 d like to bring your own.\n\nPlease indicate if you plan to spend the nigh
 t so that bedrooms can be assigned beforehand. I aim to put parties togeth
 er\, but you may need to share a room outside your party.\n\nFull paper cr
 afting store available on site.\n\nOur Massage Therapist\, Pam\, is availa
 ble for chair or table massages for an additional fee (paid directly to th
 e therapist).\n\nStill have questions? Email me at KellyHammonds@yahoo.com
 .\n\nREGISTER HERE\n\nEvent link: https://stampinup.net/crm/events/232988
LAST-MODIFIED:20240818T215208
LOCATION:AZ House of Creative Retreats\, 24246 N 43rd Avenue\, Glendale\, A
 rizona 85310
ORGANIZER;CN=Kelly Hammonds:mailto:kellyhammonds@yahoo.com
SUMMARY:Gift of Time Retreat
URL;VALUE=URI:https://stampinup.net/crm/events/232988
END:VEVENT
END:VCALENDAR
