BEGIN:VCALENDAR
VERSION:2.0
PRODID:icalendar-ruby
CALSCALE:GREGORIAN
METHOD:PUBLISH
BEGIN:VEVENT
DTSTAMP:20260420T202922Z
UID:event-232632@stampinup.net
DTSTART;TZID=America/New_York:20241005T100000
DTEND;TZID=America/New_York:20241005T150000
CREATED:20240814T171433
DESCRIPTION:LET'S CELEBRATE WORLD CARD MAKING DAY BY STAMPING TOGETHER!!!\n
 \nNote: We're going BACK to the Home School Building (HSB)\, because the o
 ther places we've used more recently are unavailable\, so this may be a ne
 w location to many of you.\n \nSHOEBOX SWAP – defined: \n\nAll you hav
 e to do is design or copy 1 card and prep enough for everyone else to make
 !\n1. Design [or copy] a fairly simple card with ALL CURRENT Stampin' Up! 
 PRODUCTS--including your cardstock\, stamps\, inks and any ribbon or embel
 lishments. (It should only take about 10 min to make\, since we'll be maki
 ng a bunch of cards!!)\n\n2. Cut and score--but don't stamp--all the suppl
 ies for [11] more cards of the same design. (The number could change\; I'l
 l email you a final number Monday\; 9/23. If we have more than 12 people\,
  I may have you bring the extras already made\, and I'll explain that late
 r. You do NOT need to provide envelopes.)\n\n3. Pack a box/bag/etc with a
 ll the supplies needed to do the actual stamping (punches\, dies\, special
  adhesives\, ink pads\, paper piercing mat if your set is photopolymer).\n
 \n4. We'll pass the boxes of supplies around and each complete the card i
 n the box--your sample should be in the box.\n\n5. We'll all leave with a
  bunch of cards!\n\nNOTE: if you're on my team\, your Shoebox Swap should
  be different/use different products than your swaps for our meetings.\n\n
 ** I will have 2 machines there for die cutting/embossing\, so you don't n
 eed to bring yours. **\n\n\nClass fee: $20 and includes lunch--pizza. I'l
 l provide water\; you bring any other non-alcoholic beverage you desire.\n
 \nPlease RSVP ASAP.\n(Deadline: Saturday\, 9/21)\n\nRegister here: https:
 //lp.constantcontactpages.com/ev/reg/9gck36z\n \n\n\nEvent link: https://
 stampinup.net/crm/events/232632
LAST-MODIFIED:20240816T190613
LOCATION:HSB (room 2)\, 5625 Burlingame SW\, Wyoming\, MI
ORGANIZER;CN=Stephanie Flath:mailto:stephanieflath@gmail.com
SUMMARY:WORLD CARD MAKING DAY SHOEBOX SWAP
URL;VALUE=URI:https://stampinup.net/crm/events/232632
END:VEVENT
END:VCALENDAR
