BEGIN:VCALENDAR
VERSION:2.0
PRODID:icalendar-ruby
CALSCALE:GREGORIAN
METHOD:PUBLISH
BEGIN:VEVENT
DTSTAMP:20260421T115612Z
UID:event-231905@stampinup.net
DTSTART;TZID=America/Chicago:20240831T235500
DTEND;TZID=America/Chicago:20240831T235900
CREATED:20240807T090129
DESCRIPTION:Enjoy some spooky fun crafting with this kit of 5 projects\, fe
 aturing the Potions &amp\; Spells bundle (available separately). \n\nCost
 : $56 shipped\n\nContact me for sign-up link.\n\nSign up by 8/31/24. Kit s
 hips by 9/15/24\, pending any backordered items.\n\nEvent link: https://st
 ampinup.net/crm/events/231905
LAST-MODIFIED:20240807T090327
LOCATION:To Go/Shipped Kit
ORGANIZER;CN=Debra Harrison:mailto:ddharrison25@gmail.com
SUMMARY:Potions & Spells Class Kit (sign-up deadline)
URL;VALUE=URI:https://stampinup.net/crm/events/231905
END:VEVENT
END:VCALENDAR
