BEGIN:VCALENDAR
VERSION:2.0
PRODID:icalendar-ruby
CALSCALE:GREGORIAN
METHOD:PUBLISH
BEGIN:VEVENT
DTSTAMP:20260419T203831Z
UID:event-231365@stampinup.net
DTSTART;TZID=America/New_York:20241019T090000
DTEND;TZID=America/New_York:20241019T210000
CREATED:20240801T193300
DESCRIPTION:One Day Crafting Retreat\n\nSaturday\, October 19\, 2024\n\n9:0
 0AM - 9:00PM\n\n\n\nDo you have a project you’ve been wanting to get com
 pleted and just never have the time??  Need to get away for a day of crea
 tivity with your girlfriends?  Need some uninterrupted time to work on so
 me crafting projects?  This day is for YOU!!\n\nAre you a quilter\, sewer
 \, scrapbooker\, cardmaker\, or crafter of any kind?? Then you won't want 
 to miss out on this fabulous ONE DAY RETREAT!!! \n\nThis is your chance to
  really get something done!!  No interruptions\, dinner to make\, kids to
  run.......  just one fabulous day for you to craft away!!\n\nRECEIVE A F
 REE GIFT IF YOU SIGN UP AND PREPAY BY SEPTEMBER 6!! \n\nUse my supplies (I
 'll have all Die-cutting Machines &amp\; Supplies\, Punches and Stamp Sets
 )\, or bring your own!!\n\nYou'll have:\n\n-6 foot table space\n\n-a Goody
  Bag valued at over $30.00! (possibilities include designer series paper\,
  ribbon &amp\; embellishments)\n\n-lunch and dinner\n\n-snacks and candy b
 uffet\n\n-make-n-takes (learn how to use the items in your Goody Bag with 
 these make-n-takes!)\n\n-table treats\n\n-opportunity to shop from my Buy 
 One\, Get One Free sale all day \n\n-12 hours of FUN!!\n\n \n\nSaturday\
 , October 19  9:00AM - 9:00PM\n\nPeace Lutheran Church in Alma (325 E War
 wick Dr)\n\n \n\n$64.00 for the entire day and goody bag!\n\n \n\nPay by
  check (payable to Amy Frillici)\, cash\, or credit card\n\n \n\nSPACE IS
  LIMITED!!\n\n \n\nRSVP and pre-pay by Monday\, September 30.  Please le
 t me know if  you’d like to sit near a friend!  \n\n \n\nHave a proje
 ct you've been wanting to get done for a while now??  Sign up today and G
 ET IT DONE!! You'll feel so good!!  This is the perfect one day retreat t
 o get away from it all!!  4 make-n-takes and plenty of inspiration\, alon
 g with optional classes will surely keep you having fun all day long!!  \
 n\n\nEvent link: https://stampinup.net/crm/events/231365
LAST-MODIFIED:20240801T193300
ORGANIZER;CN=Amy Frillici:mailto:amy.frillici@yahoo.com
SUMMARY:One Day Crafting Retreat
URL;VALUE=URI:https://stampinup.net/crm/events/231365
END:VEVENT
END:VCALENDAR
