BEGIN:VCALENDAR
VERSION:2.0
PRODID:icalendar-ruby
CALSCALE:GREGORIAN
METHOD:PUBLISH
BEGIN:VEVENT
DTSTAMP:20260425T163540Z
UID:event-230799@stampinup.net
DTSTART;VALUE=DATE:20241020
DTEND;VALUE=DATE:20241020
CREATED:20240729T092034
DESCRIPTION:Hot Springs Weekend\n\nEvent link: https://stampinup.net/crm/ev
 ents/230799
LAST-MODIFIED:20240729T092034
ORGANIZER;CN=Patience Holt:mailto:patienceholt@gmail.com
SUMMARY:Hot Springs Arkansas for the Weekend
URL;VALUE=URI:https://stampinup.net/crm/events/230799
END:VEVENT
END:VCALENDAR
