BEGIN:VCALENDAR
VERSION:2.0
PRODID:icalendar-ruby
CALSCALE:GREGORIAN
METHOD:PUBLISH
BEGIN:VEVENT
DTSTAMP:20260420T032935Z
UID:event-230798@stampinup.net
DTSTART;TZID=America/Chicago:20241018T180000
DTEND;TZID=America/Chicago:20241018T230000
CREATED:20240729T091925
DESCRIPTION:Hot Springs Weekend\n\nEvent link: https://stampinup.net/crm/ev
 ents/230798
LAST-MODIFIED:20240729T092017
ORGANIZER;CN=Patience Holt:mailto:patienceholt@gmail.com
SUMMARY:Hot Springs Arkansas for the Weekend
URL;VALUE=URI:https://stampinup.net/crm/events/230798
END:VEVENT
END:VCALENDAR
