BEGIN:VCALENDAR
VERSION:2.0
PRODID:icalendar-ruby
CALSCALE:GREGORIAN
METHOD:PUBLISH
BEGIN:VEVENT
DTSTAMP:20260425T104519Z
UID:event-230792@stampinup.net
DTSTART;VALUE=DATE:20240821
DTEND;VALUE=DATE:20240821
CREATED:20240729T091039
DESCRIPTION:Taking WitsEnd to the east coast and visiting friends along the
  way.  Hope to have pictures soon!\n\nEvent link: https://stampinup.net/c
 rm/events/230792
LAST-MODIFIED:20240729T091039
ORGANIZER;CN=Patience Holt:mailto:patienceholt@gmail.com
SUMMARY:East Coast RV Trip
URL;VALUE=URI:https://stampinup.net/crm/events/230792
END:VEVENT
END:VCALENDAR
