BEGIN:VCALENDAR
VERSION:2.0
PRODID:icalendar-ruby
CALSCALE:GREGORIAN
METHOD:PUBLISH
BEGIN:VEVENT
DTSTAMP:20260422T084314Z
UID:event-230788@stampinup.net
DTSTART;VALUE=DATE:20240817
DTEND;VALUE=DATE:20240817
CREATED:20240729T090952
DESCRIPTION:Taking WitsEnd to the east coast and visiting friends along the
  way.  Hope to have pictures soon!\n\nEvent link: https://stampinup.net/c
 rm/events/230788
LAST-MODIFIED:20240729T090952
ORGANIZER;CN=Patience Holt:mailto:patienceholt@gmail.com
SUMMARY:East Coast RV Trip
URL;VALUE=URI:https://stampinup.net/crm/events/230788
END:VEVENT
END:VCALENDAR
