BEGIN:VCALENDAR
VERSION:2.0
PRODID:icalendar-ruby
CALSCALE:GREGORIAN
METHOD:PUBLISH
BEGIN:VEVENT
DTSTAMP:20260420T020502Z
UID:event-230742@stampinup.net
DTSTART;TZID=Australia/Brisbane:20240829T100000
DTEND;TZID=Australia/Brisbane:20240829T120000
CREATED:20240728T231654
DESCRIPTION:Create 3 gorgeous cards AND learn about some FUN techniques cre
 ating TEXTURE.  All supplies included including envelopes.  You bring al
 ong your favourite adhesives and scissors.  Only $20.\nRSVP to me on 0409
  873 820 to ensure your space.  Places are limited.  \n\nEvent link: ht
 tps://stampinup.net/crm/events/230742
LAST-MODIFIED:20240728T231654
LOCATION:My Home\, 31 Sugar view Lane Rosemount
ORGANIZER;CN=Julia Quinn:mailto:julia@handmadebyjuliaquinn.com
SUMMARY:Technique Class - TEXTURE
URL;VALUE=URI:https://stampinup.net/crm/events/230742
END:VEVENT
END:VCALENDAR
