BEGIN:VCALENDAR
VERSION:2.0
PRODID:icalendar-ruby
CALSCALE:GREGORIAN
METHOD:PUBLISH
BEGIN:VEVENT
DTSTAMP:20260422T014647Z
UID:event-230396@stampinup.net
DTSTART;TZID=Pacific/Honolulu:20241027T090000
DTEND;TZID=Pacific/Honolulu:20241027T120000
CREATED:20240723T033820
DESCRIPTION:In this class\, you will be making 12 cards (3 each of 4 differ
 ent designs) using products from the Holiday Mini Catalog and Annual Catal
 og.  All supplies will be provided including envelopes.  Class fee is $2
 5.  Please contact me (jodihashimoto@gmail.com or 808.384.5122) to reserv
 e your spot.\nCheck out a sneak peek on my blog during the first half of 
 the month.\n\nEvent link: https://stampinup.net/crm/events/230396
LAST-MODIFIED:20240723T033820
LOCATION:My Home
ORGANIZER;CN=Jodi Hashimoto:mailto:jodihashimoto@gmail.com
SUMMARY:Stamp Class "Very Merry" (Session 3)
URL;VALUE=URI:https://stampinup.net/crm/events/230396
END:VEVENT
END:VCALENDAR
