BEGIN:VCALENDAR
VERSION:2.0
PRODID:icalendar-ruby
CALSCALE:GREGORIAN
METHOD:PUBLISH
BEGIN:VEVENT
DTSTAMP:20260421T133703Z
UID:event-229975@stampinup.net
DTSTART;TZID=America/New_York:20240904T190000
DTEND;TZID=America/New_York:20240904T210000
CREATED:20240716T172801
DESCRIPTION:This is an in-person event.\n\nJoin me to create with the amazi
 ng new products from the September - December Mini Catalog!\n\nWe will cre
 ate 5 projects using a variety of products from the new holiday catalog\, 
 they are amazing! You will also be able to see lots of the products plus p
 ick up your Holiday Catalog.  Grab a friend or 2\, and join the fun!\n\nF
 ee: $20 or FREE with a minimum order\nRSVP: by Tuesday\, September 2\nBrin
 g:  basic supplies including adhesive*\, and a friend!\n\n*Adhesive is av
 ailable for purchase if needed at all classes.\n \n\nEvent link: https://
 stampinup.net/crm/events/229975
LAST-MODIFIED:20240830T092249
LOCATION:Mel's Inky Fingers
ORGANIZER;CN=Melanie Hockin:mailto:melsinkyfingers@gmail.com
SUMMARY:Holiday Catalog Launch Party
URL;VALUE=URI:https://stampinup.net/crm/events/229975
END:VEVENT
END:VCALENDAR
