BEGIN:VCALENDAR
VERSION:2.0
PRODID:icalendar-ruby
CALSCALE:GREGORIAN
METHOD:PUBLISH
BEGIN:VEVENT
DTSTAMP:20260424T161502Z
UID:event-229462@stampinup.net
DTSTART;TZID=America/New_York:20240815T190000
DTEND;TZID=America/New_York:20240815T210000
CREATED:20240710T104828
DESCRIPTION:Choose your class time--morning or evening!\n\nTime for my 2nd 
 in the series of 6 monthly Christmas Classes I'm offering this season.\n\n
 We're making a sampler of Christmas Cards\, 8 cards with envelopes--2 each
  of 4 designs. We're even playing with a SNEAK PEEK set or 2!\n\nCost: $30
  or FREE with a $40 order.\n\nIf you'd like to order ahead of time\, you c
 an use host code #NGT7ACW9 once you register.\n\nNote: order total must be
  $40 AFTER any Bonus Code Coupons are applied.\n\nDEADLINE to register is 
 Monday\, 8/12.\n\nRegister here: https://bit.ly/ChRistmas2\n\n\nEvent lin
 k: https://stampinup.net/crm/events/229462
LAST-MODIFIED:20240808T074436
LOCATION:my home
ORGANIZER;CN=Stephanie Flath:mailto:stephanieflath@gmail.com
SUMMARY:Christmas Class #2 (evening)
URL;VALUE=URI:https://stampinup.net/crm/events/229462
END:VEVENT
END:VCALENDAR
