BEGIN:VCALENDAR
VERSION:2.0
PRODID:icalendar-ruby
CALSCALE:GREGORIAN
METHOD:PUBLISH
BEGIN:VEVENT
DTSTAMP:20260421T001512Z
UID:event-229450@stampinup.net
DTSTART;TZID=America/New_York:20240725T100000
DTEND;TZID=America/New_York:20240725T123000
CREATED:20240710T102432
DESCRIPTION:Choose your class time--morning or evening! This is the 1st in 
 the series of 6 monthly Christmas Classes I'm offering this season. We're 
 starting with a STACK of Christmas Cards\, 16 cards with envelopes--4 each
  of 4 designs.\n\n \n\nCost: $45 or FREE with a $50 order.\n\nDEADLINE to
  register is Tuesday\, 7/18.\n\nRegister here: https://bit.ly/ChrisTmasJu
 ly\n\n \n\n\nEvent link: https://stampinup.net/crm/events/229450
LAST-MODIFIED:20240710T102726
LOCATION:my home
ORGANIZER;CN=Stephanie Flath:mailto:stephanieflath@gmail.com
SUMMARY:Christmas (Stamp-a-Stack) in July - Christmas Class #1 (morning)
URL;VALUE=URI:https://stampinup.net/crm/events/229450
END:VEVENT
END:VCALENDAR
