BEGIN:VCALENDAR
VERSION:2.0
PRODID:icalendar-ruby
CALSCALE:GREGORIAN
METHOD:PUBLISH
BEGIN:VEVENT
DTSTAMP:20260422T100619Z
UID:event-229376@stampinup.net
DTSTART;TZID=America/New_York:20240812T100000
DTEND;TZID=America/New_York:20240812T123000
CREATED:20240709T110045
DESCRIPTION:In addition to all occasion cards\, we will start working on ou
 r upcoming holiday cards as well.  Please RSVP by Friday\, August 9th if 
 you plan on attending or have any special requests.\n\nEvent link: https:/
 /stampinup.net/crm/events/229376
LAST-MODIFIED:20240709T110045
LOCATION:My home\, 4550 FIR DR
ORGANIZER;CN=Eileen Lang:mailto:Eilang56@aol.com
SUMMARY:August Stamp Class
URL;VALUE=URI:https://stampinup.net/crm/events/229376
END:VEVENT
END:VCALENDAR
