BEGIN:VCALENDAR
VERSION:2.0
PRODID:icalendar-ruby
CALSCALE:GREGORIAN
METHOD:PUBLISH
BEGIN:VEVENT
DTSTAMP:20260423T214231Z
UID:event-228834@stampinup.net
DTSTART;TZID=America/Chicago:20241009T183000
DTEND;TZID=America/Chicago:20241009T203000
CREATED:20240702T115313
DESCRIPTION:Do you want to join the fun?  Contact Judy at 361-649-4103\n\n
 Event link: https://stampinup.net/crm/events/228834
LAST-MODIFIED:20240702T115313
ORGANIZER;CN=Judy Garza:mailto:judyghome@gmail.com
SUMMARY:Paper Dolls - Hostess Maria
URL;VALUE=URI:https://stampinup.net/crm/events/228834
END:VEVENT
END:VCALENDAR
