BEGIN:VCALENDAR
VERSION:2.0
PRODID:icalendar-ruby
CALSCALE:GREGORIAN
METHOD:PUBLISH
BEGIN:VEVENT
DTSTAMP:20260422T022447Z
UID:event-22853@stampinup.net
DTSTART;TZID=America/Los_Angeles:20191213T100000
DTEND;TZID=America/Los_Angeles:20191213T120000
CREATED:20191104T143006
DESCRIPTION:Need a card for an upcoming birthday? Come on over Friday morni
 ng and spend a couple of hours in my studio and make two birthday cards. T
 he Stamp Cafe occurs the second Friday of the month from 10:00 to noon.\n\
 nClass Fee: $15 (refundable with a minimum $25 order)\nRegister here.\n\n\
 nEvent link: https://stampinup.net/crm/events/22853
LAST-MODIFIED:20191104T143152
LOCATION:Erica's Stamp Studio\, 3933 Arrow Court\, Victoria\, BC V8N 6E7
ORGANIZER;CN=Erica Edney:mailto:ericajedney@gmail.com
SUMMARY:Card Cafe
URL;VALUE=URI:https://stampinup.net/crm/events/22853
END:VEVENT
END:VCALENDAR
