BEGIN:VCALENDAR
VERSION:2.0
PRODID:icalendar-ruby
CALSCALE:GREGORIAN
METHOD:PUBLISH
BEGIN:VEVENT
DTSTAMP:20260423T000024Z
UID:event-228389@stampinup.net
DTSTART;TZID=America/Los_Angeles:20240713T100000
DTEND;TZID=America/Los_Angeles:20240713T120000
CREATED:20240627T195927
DESCRIPTION:Time to start that stash! Come out and make 6 full cards with e
 nvelopes\, 2 of 3 designs. Cost is $25.00 or free with a qualifying order.
  Can't make it in person? Place a $40.00 order on my online store and I'll
  mail the projects to your door.\n\nEvent link: https://stampinup.net/crm/
 events/228389
LAST-MODIFIED:20240627T195927
LOCATION:My Studio\, Redding\, CA
ORGANIZER;CN=Laurie Servis:mailto:laurie@scrapsbysissy.com
SUMMARY:Christmas in July Card Class
URL;VALUE=URI:https://stampinup.net/crm/events/228389
END:VEVENT
END:VCALENDAR
