BEGIN:VCALENDAR
VERSION:2.0
PRODID:icalendar-ruby
CALSCALE:GREGORIAN
METHOD:PUBLISH
BEGIN:VEVENT
DTSTAMP:20260424T144723Z
UID:event-228105@stampinup.net
DTSTART;TZID=America/Phoenix:20240723T130000
DTEND;TZID=America/Phoenix:20240723T150000
CREATED:20240623T161220
DESCRIPTION:It's time for Christmas in July. Join me for this card making c
 lass where we'll create three handmade greeting cards with Stampin' Up! ru
 bber stamps\, ink\, and paper. Cost is $15 or free with a $25 order (befor
 e tax and shipping). Please RSVP to save a seat and get the event address.
  \n\nEvent link: https://stampinup.net/crm/events/228105
LAST-MODIFIED:20240623T161220
LOCATION:My Home\, East Mesa\, Arizona
ORGANIZER;CN=Kim Quade:mailto:kimqskards@gmail.com
SUMMARY:Christmas in July
URL;VALUE=URI:https://stampinup.net/crm/events/228105
END:VEVENT
END:VCALENDAR
