BEGIN:VCALENDAR
VERSION:2.0
PRODID:icalendar-ruby
CALSCALE:GREGORIAN
METHOD:PUBLISH
BEGIN:VEVENT
DTSTAMP:20260426T030255Z
UID:event-227925@stampinup.net
DTSTART;TZID=America/Chicago:20240726T193000
DTEND;TZID=America/Chicago:20240726T210000
CREATED:20240620T115548
DESCRIPTION:Laura’s Online Stamp Class\nThe July Online Card Class is cal
 led Christmas in July!! It will feature the NEW Stampin' Up! Online Exclus
 ives. I will be going LIVE on Facebook &amp\; YouTube (Laura’s Stamp Pad
 ) on Friday\, July 25th at 7:30 p.m. CT to create these cards. Near or fa
 r\, you have the option to purchase the PDF tutorial for this class with a
 ll the measurements and step by step instructions.\n\nEvent link: https://
 stampinup.net/crm/events/227925
LAST-MODIFIED:20240620T115548
LOCATION:Laura's Stamp Pad\, 900 Chancellor Dr\, Edwardsville
ORGANIZER;CN=Laura Borchert:mailto:lauraborchert29@gmail.com
SUMMARY:ONLINE CLASS - Christmas in July
URL;VALUE=URI:https://stampinup.net/crm/events/227925
END:VEVENT
END:VCALENDAR
