BEGIN:VCALENDAR
VERSION:2.0
PRODID:icalendar-ruby
CALSCALE:GREGORIAN
METHOD:PUBLISH
BEGIN:VEVENT
DTSTAMP:20260420T094311Z
UID:event-227813@stampinup.net
DTSTART;TZID=America/New_York:20240620T203000
DTEND;TZID=America/New_York:20240620T210000
CREATED:20240618T183758
DESCRIPTION:\nWith one bar in our town... I meannn ONE Cell Phone bar (we
  actually had NO cell service this weekend at all - ugh!!) Sooooo - my as
 sistant and I've been deep in the trenches of organizing my studio and pla
 nning amazing crafting events for YOU!  Catch my LIVE this week on Thursd
 ay at 8:30pm est as we are creating SUMMER's brightest and tastiest handma
 de cards  (they\, aka ATT\, "promise" the towers will be back up tomorro
 w - I'll be calling to assure this - driving out of town to do so smh!). 
  \n Catch our weekly LIVES and Videos on:\nDon't forget to Subscribe and
  Hit that Bell to Join us LIVE and for ALL of our Crafting How-To Videos! 
  CLICK HERE \nhttps://www.facebook.com/GettingCrafty.net/videos\nhttps:/
 /www.youtube.com/c/JamieAlbanese/videos\n\n	\n		\n			\n			Jamie Albanese\n
 			Creating and Connecting over Crafting and Card Making. Handmade\, hand 
 crafted\, how-to's with two or more videos a week. 💌 Handmade Cards 
 ✂️ Card Making Tutorials 📩 Basics of Stamping 🗝 Techniques 📖 
 Planner Addict / Life 📚 Bible Journalling 🌳 Wood Burning 📝 SUBSCR
 IBE\, with Two Videos a week - we do not want to miss you! See more Crafti
 ng and Card Making with Jamie on my blog www.GettingCrafty.net as a Stampi
 n' Up! Demonstrator\n			www.youtube.com\n		\n	\n\n\nCreating is so much
  easier with our coordinated Bundles.... And I LOVE LOVE LOVE when they ar
 e on Sale!  They are ALREADY 10% savings... But until the end of June - t
 hey are a BONUS 10% in Savings!!  (For me - I love MYYYYY discount combin
 ed with the 20% savings!!).  Don't miss out on these amazing bundles... S
 hop with ME and SCORE a Stunning FREE Gift and Class in the mail!\nDon't M
 iss Out on Creating with us HERE!\nGetting Crafty June 2023 Hostess Code: 
 3MA3U23F\nJust Copy and Paste this Code in your order.\n**OR... if you are
  ordering over $150 and you don't want to score it at the BEST DEAL OF AL
 L as a VIP Shopper.. Make sure YOU Score the Hostess Shopping Spree!  Don
 't add a Hostess Code but DO make sure you are shopping with ME for the ne
 west FREE Class!!  See ALL of the Specials HERE!\n\n\n	\n		\n			\n			Joi
 n the Getting Crafty Family\n			Why do I want YOU to Join our  Getting Cr
 afty Family? Best Deal in TOWN!  Pick YOUR Starter Kit when you Become a 
 Part of the Get...\n			www.gettingcrafty.net\n		\n	\n\n\n \nCreate and
  celebrate this SUMMER \n(during the heat wave of this last week.. Eek lo
 l!).  Let me bring you this stunning and cool Getting Crafty One Day Summ
 er Retreat!  With an In-Person event on June 29th and ONLINE on July 2nd
 ... You have two days and two different class options to choose from!  C
 reate with us so that we can prep those amazing kits and order that loaded
  goody bag - make sure you RSVP ASAP... We'd love to have you with us\, cr
 eating and connecting over card making and crafting.  (Each option comes 
 with FREE BONUS Stamp Sets and Paper Samplers as our gift to YOU!). \n\nD
 on't miss our 20 Christmas Cards in ONE Day - our Christmas in July card 
 class and BINGO that will occur in person July 27th and online July 30th
   \nhttps://www.gettingcrafty.net/2024/06/getting-crafty-one-day-summer-
 retreat.html\n\n\n	\n		\n			\n			Getting Crafty One Day Summer Retreat (In
  Person and Online!)\n			  18 Wow Cards\, One Day In Person and One Eveni
 ng Online Three Collections\, All Inclusive\, TWO Price Options (Save 20% 
 on Option Two!)\, BON...\n			www.gettingcrafty.net\n		\n	\n\n\nI LOVE S
 ummer.. With Flag day having just passed - I knew that meant that Summer 
 was officially starting!  I tend to decorate in Patriotic during the Summ
 er and creating was such fun!  \nhttps://www.gettingcrafty.net/2024/06/q
 uick-easy-usa-patriotic-stampin-up.html\n\n\n	\n		\n			\n			Quick &amp\; E
 asy USA Patriotic Stampin' Up! Handmade Card Stamping while Embossing\n			
 Create not ONE handmade card but TWO in minutes?! Celebrate our amazing na
 tion andddd do so with a cool technique?! A Video Tutorial that wi...\n			
 www.gettingcrafty.net\n		\n	\n\n\n\n\n	\n		\n			\n		\n		\n			\n			\n			
 	\n					\n						\n						\n						\n						\n						\n						\n						\n						\n
 						\n						\n					\n				\n			\n			\n		\n	\n\n\nmyesig.com\n\n \n\nEven
 t link: https://stampinup.net/crm/events/227813
LAST-MODIFIED:20240618T183758
LOCATION:Getting Crafty ONLINE classes\, https://www.youtube.com/c/JamieAlb
 anese/videos
ORGANIZER;CN=Jamie Albanese:mailto:jla_jar@msn.com
SUMMARY:Summer Solstice Creating!
URL;VALUE=URI:https://stampinup.net/crm/events/227813
END:VEVENT
END:VCALENDAR
