BEGIN:VCALENDAR
VERSION:2.0
PRODID:icalendar-ruby
CALSCALE:GREGORIAN
METHOD:PUBLISH
BEGIN:VEVENT
DTSTAMP:20260424T190934Z
UID:event-227694@stampinup.net
DTSTART;TZID=America/New_York:20240713T090000
DTEND;TZID=America/New_York:20240713T180000
CREATED:20240616T205127
DESCRIPTION:NO Frill crops are a fun day where you can come out and work on
  your cardmaking/scrapbooking/crafting projects with a group of likeminded
  crafters for $15 and bring something to share for our potluck lunch. Just
  private message or email me at craftdbear@rogers.com to reserve your spac
 e.\nDates of upcoming crops:\nSaturday\, July 13\, 2024 (register now)\nUp
 coming Dates\nSaturday\, August 10\, 2024 No Frills crop\nSaturday\, Octob
 er 5\, 2024 No Frills crop celebrating World Cardmaking Day \n\nEvent lin
 k: https://stampinup.net/crm/events/227694
LAST-MODIFIED:20240616T205127
LOCATION:St David's United Church \, 190 Springbank Ave\, Woodstock\, ON N4
 S 7R1
ORGANIZER;CN=Denise Donald:mailto:craftdbear@rogers.com
SUMMARY:Crop with CraftD
URL;VALUE=URI:https://stampinup.net/crm/events/227694
END:VEVENT
END:VCALENDAR
