BEGIN:VCALENDAR
VERSION:2.0
PRODID:icalendar-ruby
CALSCALE:GREGORIAN
METHOD:PUBLISH
BEGIN:VEVENT
DTSTAMP:20260423T060831Z
UID:event-227602@stampinup.net
DTSTART;TZID=America/Chicago:20240717T190000
DTEND;TZID=America/Chicago:20240717T203000
CREATED:20240615T124734
DESCRIPTION:We'll make 4-5 greeting cards\, ready to give or drop in the ma
 il.   All supplies and instruction are provided!  Assorted greetings w
 ill be available.   Just $20!  RSVP to reserve your spot.    \n\nEve
 nt link: https://stampinup.net/crm/events/227602
LAST-MODIFIED:20240717T133816
LOCATION:Alternatives/Open Sky\, 60 Douglas Road\, Whitinsville\, MA 01588
ORGANIZER;CN=Holly Crawford:mailto:holly.stamps@me.com
SUMMARY:Make Your Own Greeting Cards
URL;VALUE=URI:https://stampinup.net/crm/events/227602
END:VEVENT
END:VCALENDAR
