BEGIN:VCALENDAR
VERSION:2.0
PRODID:icalendar-ruby
CALSCALE:GREGORIAN
METHOD:PUBLISH
BEGIN:VEVENT
DTSTAMP:20260422T084240Z
UID:event-226746@stampinup.net
DTSTART;TZID=Pacific/Auckland:20241105T190000
DTEND;TZID=Pacific/Auckland:20241105T213000
CREATED:20240604T194334
DESCRIPTION:Join this social group for crafting fun where I show you how to
  make handmade cards.\nAll materials are supplied along with free tea &amp
 \; coffee and sweet treat.\nSpaces are limited so book early to secure you
 r booking. Please contact me if you need more details.\n\nEvent link: http
 s://stampinup.net/crm/events/226746
LAST-MODIFIED:20240604T194334
LOCATION:Remuera\, Address shared after booking
ORGANIZER;CN=Vanessa Baker:mailto:vanessa@confetticardstudio.nz
SUMMARY:Card Making Class - Remuera
URL;VALUE=URI:https://stampinup.net/crm/events/226746
END:VEVENT
END:VCALENDAR
