BEGIN:VCALENDAR
VERSION:2.0
PRODID:icalendar-ruby
CALSCALE:GREGORIAN
METHOD:PUBLISH
BEGIN:VEVENT
DTSTAMP:20260419T183725Z
UID:event-226687@stampinup.net
DTSTART;TZID=America/New_York:20240712T183000
DTEND;TZID=America/New_York:20240712T203000
CREATED:20240604T140131
DESCRIPTION:Bring Your Own Bundle Class!\n\nThis BYOB Class will teach you 
 tips and tricks for using the Layers of Beauty bundle. We'll make 3 cards 
 using this gorgeous bundle with a special focus on the decorative masks.\n
 \nHow this class works:\n\n-Order the Layers of Beauty Bundle (item #16351
 9) (and blending brushes if you don't have any page 124 AC) by July 2 to m
 ake sure it arrives to you in time for class\n\n-RSVP to me that you'll be
  there on the 12th so I'll have all the supplies prepared (Last Day to RSV
 P July 2)\n\n-Bring your Layers of Beauty bundle\, blending brushes\, adhe
 sive &amp\; scissors to class\n\n-Pay $10 class fee ahead of time or at cl
 ass\, go home with 3 projects using your new bundle and the confidence to
  continue making cards on your own!\n\nThis will be a product based class 
 in which each person attending will use their own bundle to make their cla
 ss projects. The bundle contains the Layers of Beauty Stamp Set\, Layers o
 f Beauty die set and Layers of Beauty Decorative masks. See page 57 in the
  Annual Catalog. Bundle Cost $56.50 (Item #163519)\n\nSupplies to bring to
  class: Bundle\, adhesive\, scissors\, blending brushes\n\nThis is a new f
 ormat of class so please reach out with any questions!  (If there is inte
 rest in an online version of this class please let me know- I'm sure we c
 ould do something virtually!)\n\n\nEvent link: https://stampinup.net/crm/e
 vents/226687
LAST-MODIFIED:20240604T140131
LOCATION:My House\, 11045 Slenderleaf Dr. Glen Allen
ORGANIZER;CN=Amanda Mertz:mailto:Didyoustamptoday@gmail.com
SUMMARY:Layers of Beauty Bundle Class (BYOB)
URL;VALUE=URI:https://stampinup.net/crm/events/226687
END:VEVENT
END:VCALENDAR
