BEGIN:VCALENDAR
VERSION:2.0
PRODID:icalendar-ruby
CALSCALE:GREGORIAN
METHOD:PUBLISH
BEGIN:VEVENT
DTSTAMP:20260420T114430Z
UID:event-226575@stampinup.net
DTSTART;TZID=America/Denver:20240914T090000
DTEND;TZID=America/Denver:20240914T110000
CREATED:20240603T155736
DESCRIPTION:Time to make some Holiday Cards!!  \nWe will make 12 cards --
  4 each of 3 designs!  All will be "mailable"--no extra postage required!
   Envelopes will be included!\n\nCost is  $25\n\nPlease bring paper snip
 s and your favorite adhesive.  I'll provide any "special" adhesives neede
 d like Tear &amp\; Tape\, Dimensionals\, etc.  I'll also have liquid glue
  available if you forget yours!\n\nPayment must be made in advance to hold
  your spot.  These classes are very popular\, and fill up fast.  If you 
 haven't paid\, I will give your spot to someone else!\n\nSend check to:\nT
 ammy Fite\n6448 Kola Ct NW\nAlbuquerque\, NM 87120\n\nor venmo:  @tkfite\
 nor Paypal:  stampwithtammy@gmail.com\n \n\nEvent link: https://stampinu
 p.net/crm/events/226575
LAST-MODIFIED:20240615T170022
LOCATION:Tammy's Stamp Studio\, 6448 Kola Ct NW
ORGANIZER;CN=Tammy Fite:mailto:stampwithtammy@gmail.com
SUMMARY:Christmas Card Classes #3
URL;VALUE=URI:https://stampinup.net/crm/events/226575
END:VEVENT
END:VCALENDAR
