BEGIN:VCALENDAR
VERSION:2.0
PRODID:icalendar-ruby
CALSCALE:GREGORIAN
METHOD:PUBLISH
BEGIN:VEVENT
DTSTAMP:20260421T104031Z
UID:event-226114@stampinup.net
DTSTART;TZID=America/Los_Angeles:20240614T100000
DTEND;TZID=America/Los_Angeles:20240614T130000
CREATED:20240529T170411
DESCRIPTION:You can gather a group of your friends and we can have a Privat
 e Class to make something extra fun! Send me a message.\n\nEvent link: htt
 ps://stampinup.net/crm/events/226114
LAST-MODIFIED:20240529T170411
LOCATION:Eva Home
ORGANIZER;CN=Eva Dietz:mailto:dedietz@comcast.net
SUMMARY:Private Class
URL;VALUE=URI:https://stampinup.net/crm/events/226114
END:VEVENT
END:VCALENDAR
