BEGIN:VCALENDAR
VERSION:2.0
PRODID:icalendar-ruby
CALSCALE:GREGORIAN
METHOD:PUBLISH
BEGIN:VEVENT
DTSTAMP:20260421T133703Z
UID:event-226101@stampinup.net
DTSTART;TZID=America/New_York:20240815T180000
DTEND;TZID=America/New_York:20240815T210000
CREATED:20240529T150818
DESCRIPTION:You're invited to have some fun with me!\n\nCome to Bingo Night
 .....Stampin' Style!\n\nChance to win LOTS of new Annual Catalog product 
 - get it for FREE tonight instead of buying it!! \n\nWe'll play 6 or more
  games of Bingo with hundreds of dollars in prizes to be won from the new 
 Catalogs!!  \n\nPLUS...  pillow gifts\, a gift certificate toward an ord
 er that night   \n\nAND...\n\na GRAND PRIZE COVERALL GAME!!  - the winn
 er receives a  Stampin' Up shopping spree!!\n\nThe winner at the last bin
 go night went home with $100 in FREE PRODUCT!!\n\nBring a friend along and
  have an enjoyable night out!\n\nPlus you'll make 2 projects that night...
 so you're ALL winners!\n\nCost is $35.00\n\n(Chance to win lots of awesome
  prizes!)\n\nSpace is limited!\n\n \n\nRSVP and PRE-PAY by Monday\, Augus
 t 5.\n\n(so I have time to get all the prizes here!)\n\nDon't forget your 
 scissors and adhesive.\n\n\nEvent link: https://stampinup.net/crm/events/2
 26101
LAST-MODIFIED:20240624T185354
LOCATION:Peace Lutheran Church\, 325 E Warwick Dr.   Alma\, MI  48801
ORGANIZER;CN=Amy Frillici:mailto:amy.frillici@yahoo.com
SUMMARY:Bingo Night Stampin’ Style
URL;VALUE=URI:https://stampinup.net/crm/events/226101
END:VEVENT
END:VCALENDAR
