BEGIN:VCALENDAR
VERSION:2.0
PRODID:icalendar-ruby
CALSCALE:GREGORIAN
METHOD:PUBLISH
BEGIN:VEVENT
DTSTAMP:20260422T052955Z
UID:event-226034@stampinup.net
DTSTART;TZID=America/Los_Angeles:20240727T093000
DTEND;TZID=America/Los_Angeles:20240727T120000
CREATED:20240528T172341
DESCRIPTION:Got photos? Come out and create some beautiful layouts to save 
 those photos. Whether you have never scrapbooked before or have been scrap
 ping for years\, this is the perfect afternoon of playing with stamps\, in
 ks and paper. Cost is $30.00 and due by July 10th. Cost includes a goody b
 ag valued at more than $25.00. Space is extremely limited\, so RSVP early 
 to save your spot.\n\nEvent link: https://stampinup.net/crm/events/226034
LAST-MODIFIED:20240712T144729
LOCATION:My Studio\, Redding\, CA
ORGANIZER;CN=Laurie Servis:mailto:laurie@scrapsbysissy.com
SUMMARY:July Scrapbook Class
URL;VALUE=URI:https://stampinup.net/crm/events/226034
END:VEVENT
END:VCALENDAR
