BEGIN:VCALENDAR
VERSION:2.0
PRODID:icalendar-ruby
CALSCALE:GREGORIAN
METHOD:PUBLISH
BEGIN:VEVENT
DTSTAMP:20260424T150616Z
UID:event-225750@stampinup.net
DTSTART;TZID=America/Chicago:20240518T100000
DTEND;TZID=America/Chicago:20240518T120000
CREATED:20240524T202627
DESCRIPTION:Live locally in San Antonio? Join us to craft in person! \n\nM
 onthly subscription cost: $37 local in-person/pickup\, includes project pa
 ckets\, apx $20 in consumable products\, and PDF tutorial. Some pieces wil
 l need to be stamped and cut. \n\nMore info at https://tinyurl.com/sweet
 creationsclub.\n\nContact me with any questions!\n\nEvent link: https://s
 tampinup.net/crm/events/225750
LAST-MODIFIED:20240524T202627
ORGANIZER;CN=Debra Harrison:mailto:ddharrison25@gmail.com
SUMMARY:Sweet Creations Club Local In Person
URL;VALUE=URI:https://stampinup.net/crm/events/225750
RRULE:FREQ=MONTHLY;BYDAY=3SA
END:VEVENT
END:VCALENDAR
